BEGIN:VCALENDAR
VERSION:2.0
PRODID:-//DEUCES WILD ENTERTAINMENT - ECPv6.15.15//NONSGML v1.0//EN
CALSCALE:GREGORIAN
METHOD:PUBLISH
X-WR-CALNAME:DEUCES WILD ENTERTAINMENT
X-ORIGINAL-URL:https://thetrickster.net
X-WR-CALDESC:Events for DEUCES WILD ENTERTAINMENT
REFRESH-INTERVAL;VALUE=DURATION:PT1H
X-Robots-Tag:noindex
X-PUBLISHED-TTL:PT1H
BEGIN:VTIMEZONE
TZID:America/Los_Angeles
BEGIN:DAYLIGHT
TZOFFSETFROM:-0800
TZOFFSETTO:-0700
TZNAME:PDT
DTSTART:20230312T100000
END:DAYLIGHT
BEGIN:STANDARD
TZOFFSETFROM:-0700
TZOFFSETTO:-0800
TZNAME:PST
DTSTART:20231105T090000
END:STANDARD
BEGIN:DAYLIGHT
TZOFFSETFROM:-0800
TZOFFSETTO:-0700
TZNAME:PDT
DTSTART:20240310T100000
END:DAYLIGHT
BEGIN:STANDARD
TZOFFSETFROM:-0700
TZOFFSETTO:-0800
TZNAME:PST
DTSTART:20241103T090000
END:STANDARD
BEGIN:DAYLIGHT
TZOFFSETFROM:-0800
TZOFFSETTO:-0700
TZNAME:PDT
DTSTART:20250309T100000
END:DAYLIGHT
BEGIN:STANDARD
TZOFFSETFROM:-0700
TZOFFSETTO:-0800
TZNAME:PST
DTSTART:20251102T090000
END:STANDARD
END:VTIMEZONE
BEGIN:VEVENT
DTSTART;TZID=America/Los_Angeles:20241019T190000
DTEND;TZID=America/Los_Angeles:20241019T220000
DTSTAMP:20260420T064655
CREATED:20240925T062235Z
LAST-MODIFIED:20240925T062235Z
UID:10003309-1729364400-1729375200@thetrickster.net
SUMMARY:Beer & Magic @ Alosta Brewing
DESCRIPTION:BACK BY POPULAR DEMAND: BEER & MAGIC!! \n@beerandmagic \nJoin us on the evening of October 19th as real working magicians from the World Famous Magic Castle in Hollywood surprise and amaze you with delightful and memorable closeup magic. \nPlan for some delicious BBQ that day as well as we welcome back Coaches Pit BBQ. \n[staff_member id=”332″ show_name=”1″ show_title=”0″ show_bio=”0″ show_photo=”1″ show_email=”0″ show_phone=”0″ show_address=”0″ show_website=”0″ show_department=”0″]
URL:https://thetrickster.net/event/beer-magic-alosta-brewing-2/
LOCATION:Alosta Brewing Co\, 692 Arrow Grand Cir\, Covina\, CA\, 91722\, United States
CATEGORIES:Beer & Magic,Byron,Public Events
END:VEVENT
END:VCALENDAR