BEGIN:VCALENDAR
VERSION:2.0
PRODID:-//DEUCES WILD ENTERTAINMENT - ECPv6.15.15//NONSGML v1.0//EN
CALSCALE:GREGORIAN
METHOD:PUBLISH
X-ORIGINAL-URL:https://thetrickster.net
X-WR-CALDESC:Events for DEUCES WILD ENTERTAINMENT
REFRESH-INTERVAL;VALUE=DURATION:PT1H
X-Robots-Tag:noindex
X-PUBLISHED-TTL:PT1H
BEGIN:VTIMEZONE
TZID:America/Los_Angeles
BEGIN:DAYLIGHT
TZOFFSETFROM:-0800
TZOFFSETTO:-0700
TZNAME:PDT
DTSTART:20220313T100000
END:DAYLIGHT
BEGIN:STANDARD
TZOFFSETFROM:-0700
TZOFFSETTO:-0800
TZNAME:PST
DTSTART:20221106T090000
END:STANDARD
BEGIN:DAYLIGHT
TZOFFSETFROM:-0800
TZOFFSETTO:-0700
TZNAME:PDT
DTSTART:20230312T100000
END:DAYLIGHT
BEGIN:STANDARD
TZOFFSETFROM:-0700
TZOFFSETTO:-0800
TZNAME:PST
DTSTART:20231105T090000
END:STANDARD
BEGIN:DAYLIGHT
TZOFFSETFROM:-0800
TZOFFSETTO:-0700
TZNAME:PDT
DTSTART:20240310T100000
END:DAYLIGHT
BEGIN:STANDARD
TZOFFSETFROM:-0700
TZOFFSETTO:-0800
TZNAME:PST
DTSTART:20241103T090000
END:STANDARD
END:VTIMEZONE
BEGIN:VEVENT
DTSTART;TZID=America/Los_Angeles:20231202T190000
DTEND;TZID=America/Los_Angeles:20231202T220000
DTSTAMP:20260421T000033
CREATED:20231031T122508Z
LAST-MODIFIED:20231129T234102Z
UID:10000707-1701543600-1701554400@thetrickster.net
SUMMARY:Beer & Magic @ Absoltuion Brewing
DESCRIPTION:  \n  \n  \n  \n  \nBACK by Popular Demand\, @BeerAndMagic @AbsolutionBrewing \nSat 12/02/23 from 7-10pm \nFeaturing the follwing:\n@CardJestures\n@AsianBlaineMagic\n@ \n \n  \n  \n  \n  \n  \n  \nWe will also be having a few surprise guest swinging in thru-out the evening (schedule permitting). \n#magic #beer #beerandmagic #makethebeerdisappear #absolutionbrewing #brewery #beers #beerstagram #drinking #barmagic
URL:https://thetrickster.net/event/beer-magic-absoltuion-brewing-2/
LOCATION:Absolution Brewing Company\, 2878 Columbia St\, Torrance\, CA\, 90503\, United States
CATEGORIES:Beer & Magic,Public Events,Trickster
END:VEVENT
END:VCALENDAR