BEGIN:VCALENDAR
VERSION:2.0
PRODID:-//DEUCES WILD ENTERTAINMENT - ECPv6.15.15//NONSGML v1.0//EN
CALSCALE:GREGORIAN
METHOD:PUBLISH
X-ORIGINAL-URL:https://thetrickster.net
X-WR-CALDESC:Events for DEUCES WILD ENTERTAINMENT
REFRESH-INTERVAL;VALUE=DURATION:PT1H
X-Robots-Tag:noindex
X-PUBLISHED-TTL:PT1H
BEGIN:VTIMEZONE
TZID:America/Los_Angeles
BEGIN:DAYLIGHT
TZOFFSETFROM:-0800
TZOFFSETTO:-0700
TZNAME:PDT
DTSTART:20220313T100000
END:DAYLIGHT
BEGIN:STANDARD
TZOFFSETFROM:-0700
TZOFFSETTO:-0800
TZNAME:PST
DTSTART:20221106T090000
END:STANDARD
BEGIN:DAYLIGHT
TZOFFSETFROM:-0800
TZOFFSETTO:-0700
TZNAME:PDT
DTSTART:20230312T100000
END:DAYLIGHT
BEGIN:STANDARD
TZOFFSETFROM:-0700
TZOFFSETTO:-0800
TZNAME:PST
DTSTART:20231105T090000
END:STANDARD
BEGIN:DAYLIGHT
TZOFFSETFROM:-0800
TZOFFSETTO:-0700
TZNAME:PDT
DTSTART:20240310T100000
END:DAYLIGHT
BEGIN:STANDARD
TZOFFSETFROM:-0700
TZOFFSETTO:-0800
TZNAME:PST
DTSTART:20241103T090000
END:STANDARD
END:VTIMEZONE
BEGIN:VEVENT
DTSTART;TZID=America/Los_Angeles:20231027T100000
DTEND;TZID=America/Los_Angeles:20231028T130000
DTSTAMP:20260421T031104
CREATED:20231027T095415Z
LAST-MODIFIED:20231027T095415Z
UID:10000706-1698400800-1698498000@thetrickster.net
SUMMARY:Brewers Mash Beer Festival
DESCRIPTION:  \n  \n  \n  \n  \nOC Brewers Mash returns on Saturday\, October 28\, 2023 at The Heritage Museum of Orange County. \nMark your calendars for October 28th as the Orange County Brewers Guild hosts the 5th annual Brewers Mash showcasing local Orange County independent breweries in a festive Halloween-themed environment. \nBe festive!  Costumes are welcome\, and strongly encouraged.  Go “trick-or-treating” from decorated booth to decorated booth to sample the crème de la crème beers of local craft beers along with some spooky special releases. \nThe night promises to be one to remember with a slew of entertainment including @beerandmagic\, music\, costume contest\, tasty food trucks and great brews under the stars at the Heritage Museum of Orange County. \nEarly Bird tickets are available now. Link in bio. \n@OCBrewersGuild\n@HeritageMusOC\n@BeerAndMagic\n@CardJestures\n@RustyDoesMagic\n@TrackJacketMagic \nhttps://www.ocbrewers.org/brewers-mash
URL:https://thetrickster.net/event/brewers-mash-beer-festival/
LOCATION:Heritage Museum OC\, 3101 W Harvard St\, Santa Ana\, CA\, 92704\, United States
CATEGORIES:Beer & Magic,Byron,Public Events
ORGANIZER;CN="OC Brewers Guild":MAILTO:info@ocbrewersguild.com
END:VEVENT
END:VCALENDAR