BEGIN:VCALENDAR
VERSION:2.0
PRODID:-//DEUCES WILD ENTERTAINMENT - ECPv6.15.15//NONSGML v1.0//EN
CALSCALE:GREGORIAN
METHOD:PUBLISH
X-WR-CALNAME:DEUCES WILD ENTERTAINMENT
X-ORIGINAL-URL:https://thetrickster.net
X-WR-CALDESC:Events for DEUCES WILD ENTERTAINMENT
REFRESH-INTERVAL;VALUE=DURATION:PT1H
X-Robots-Tag:noindex
X-PUBLISHED-TTL:PT1H
BEGIN:VTIMEZONE
TZID:America/Los_Angeles
BEGIN:DAYLIGHT
TZOFFSETFROM:-0800
TZOFFSETTO:-0700
TZNAME:PDT
DTSTART:20220313T100000
END:DAYLIGHT
BEGIN:STANDARD
TZOFFSETFROM:-0700
TZOFFSETTO:-0800
TZNAME:PST
DTSTART:20221106T090000
END:STANDARD
BEGIN:DAYLIGHT
TZOFFSETFROM:-0800
TZOFFSETTO:-0700
TZNAME:PDT
DTSTART:20230312T100000
END:DAYLIGHT
BEGIN:STANDARD
TZOFFSETFROM:-0700
TZOFFSETTO:-0800
TZNAME:PST
DTSTART:20231105T090000
END:STANDARD
BEGIN:DAYLIGHT
TZOFFSETFROM:-0800
TZOFFSETTO:-0700
TZNAME:PDT
DTSTART:20240310T100000
END:DAYLIGHT
BEGIN:STANDARD
TZOFFSETFROM:-0700
TZOFFSETTO:-0800
TZNAME:PST
DTSTART:20241103T090000
END:STANDARD
END:VTIMEZONE
BEGIN:VEVENT
DTSTART;TZID=America/Los_Angeles:20230826T110000
DTEND;TZID=America/Los_Angeles:20230826T140000
DTSTAMP:20260421T061819
CREATED:20230831T102737Z
LAST-MODIFIED:20230831T102753Z
UID:10000620-1693047600-1693058400@thetrickster.net
SUMMARY:Magic Brews @ La Verne Brewing Co
DESCRIPTION:THIS FRIDAY we have an awesome event planned for you all! \nFriday 8/26\, join us for a night of fun and magic. We will have magicians coming through to show you their favorite mind blowing magic tricks 🪄 \nMagic starts at 6pm. Mark your calendars 📆 \n@fondtraditionbbq will be here this Friday as well! \n#LaVerneBrewingCo #LaVerne #Craftbeer #Craftbeerlovers #Beer #Beerstagram #BeerLover #BeerNerdsUnites #DrinkLocal #SupportLocal #Socal #Brewery #Beertography #BeerMe
URL:https://thetrickster.net/event/magic-brews-la-verne-brewing-co/
LOCATION:La Verne Brewing Co\, 2125 Wright Ave c 15\, La Verne\, CA\, 91750\, United States
CATEGORIES:Beer & Magic,Byron,Jack,Public Events,Trickster
END:VEVENT
END:VCALENDAR