BEGIN:VCALENDAR
VERSION:2.0
PRODID:-//DEUCES WILD ENTERTAINMENT - ECPv6.15.15//NONSGML v1.0//EN
CALSCALE:GREGORIAN
METHOD:PUBLISH
X-ORIGINAL-URL:https://thetrickster.net
X-WR-CALDESC:Events for DEUCES WILD ENTERTAINMENT
REFRESH-INTERVAL;VALUE=DURATION:PT1H
X-Robots-Tag:noindex
X-PUBLISHED-TTL:PT1H
BEGIN:VTIMEZONE
TZID:America/Los_Angeles
BEGIN:DAYLIGHT
TZOFFSETFROM:-0800
TZOFFSETTO:-0700
TZNAME:PDT
DTSTART:20220313T100000
END:DAYLIGHT
BEGIN:STANDARD
TZOFFSETFROM:-0700
TZOFFSETTO:-0800
TZNAME:PST
DTSTART:20221106T090000
END:STANDARD
BEGIN:DAYLIGHT
TZOFFSETFROM:-0800
TZOFFSETTO:-0700
TZNAME:PDT
DTSTART:20230312T100000
END:DAYLIGHT
BEGIN:STANDARD
TZOFFSETFROM:-0700
TZOFFSETTO:-0800
TZNAME:PST
DTSTART:20231105T090000
END:STANDARD
BEGIN:DAYLIGHT
TZOFFSETFROM:-0800
TZOFFSETTO:-0700
TZNAME:PDT
DTSTART:20240310T100000
END:DAYLIGHT
BEGIN:STANDARD
TZOFFSETFROM:-0700
TZOFFSETTO:-0800
TZNAME:PST
DTSTART:20241103T090000
END:STANDARD
END:VTIMEZONE
BEGIN:VEVENT
DTSTART;TZID=America/Los_Angeles:20230318T090000
DTEND;TZID=America/Los_Angeles:20230318T120000
DTSTAMP:20260421T143443
CREATED:20230218T023440Z
LAST-MODIFIED:20230308T100119Z
UID:10000252-1679130000-1679140800@thetrickster.net
SUMMARY:Beer & Magic @ Brewheim
DESCRIPTION:We’re excited to announce that we will be hosting our 4th Anniversary Party this month! Join us on Saturday\, March 18th anytime between 1pm-midnight for a day filled with great beers\, delicious food and tons of entertainment! \nLive music kicks off at 1pm with Marc Gonzales then we have the return of Magic & Beer at 4pm\, Live Comedy at 7pm and a DJ spinning from 9:30pm-midnight. \nWe’ll also have special beers being released (stay tuned to our social media channels)\, raffle prizes\, two great food trucks and best of all\, no charge or registration needed. Just show up whenever you want and party with us however long you want to! Seating for shows will be done on a first come\, first served basis so arrive early. \nThanks for all the love and support these past 4 years. We can’t wait to celebrate with you all! 🍻 #Brewheim\n.\n.\n.\n.\n.\n#Anniversary #AnniversaryParty #WorkAnniversary #4Years #Celebrate #Party #Brewery #Anaheim #AnaheimCA #AnaheimBrewery #BrewheimBeers #BrewheimBrewery #BeersOnTap #DraftBeer #CraftBeer #FoodTrucks #Raffles #BeerRelease #NewBeer #LiveMusic #LivePerformance #BeerAndMagic #MagicShow #Magicians #Fullerton #Placentia #GardenGrove #Orange #BuenaPark \n.\n.\n.\n.\n.\n#MagicShow #BeerAndMagic #Magicians #MagicShows #Brewery #CraftBeer #Beer #Anaheim #AnaheimCA #AnaheimBrewery #BrewheimBeers #BrewheimBrewery #OrangeCounty #MagicCastle
URL:https://thetrickster.net/event/beer-magic-brewheim-2/
LOCATION:Brewheim\, 1931 E. Wright Circle\, Anaheim\, CA\, 92806\, United States
CATEGORIES:Beer & Magic,Byron,Hubb,Lauro,Public Events,Trickster
END:VEVENT
END:VCALENDAR