BEGIN:VCALENDAR
VERSION:2.0
PRODID:-//DEUCES WILD ENTERTAINMENT - ECPv6.15.15//NONSGML v1.0//EN
CALSCALE:GREGORIAN
METHOD:PUBLISH
X-WR-CALNAME:DEUCES WILD ENTERTAINMENT
X-ORIGINAL-URL:https://thetrickster.net
X-WR-CALDESC:Events for DEUCES WILD ENTERTAINMENT
REFRESH-INTERVAL;VALUE=DURATION:PT1H
X-Robots-Tag:noindex
X-PUBLISHED-TTL:PT1H
BEGIN:VTIMEZONE
TZID:America/Los_Angeles
BEGIN:DAYLIGHT
TZOFFSETFROM:-0800
TZOFFSETTO:-0700
TZNAME:PDT
DTSTART:20230312T100000
END:DAYLIGHT
BEGIN:STANDARD
TZOFFSETFROM:-0700
TZOFFSETTO:-0800
TZNAME:PST
DTSTART:20231105T090000
END:STANDARD
BEGIN:DAYLIGHT
TZOFFSETFROM:-0800
TZOFFSETTO:-0700
TZNAME:PDT
DTSTART:20240310T100000
END:DAYLIGHT
BEGIN:STANDARD
TZOFFSETFROM:-0700
TZOFFSETTO:-0800
TZNAME:PST
DTSTART:20241103T090000
END:STANDARD
BEGIN:DAYLIGHT
TZOFFSETFROM:-0800
TZOFFSETTO:-0700
TZNAME:PDT
DTSTART:20250309T100000
END:DAYLIGHT
BEGIN:STANDARD
TZOFFSETFROM:-0700
TZOFFSETTO:-0800
TZNAME:PST
DTSTART:20251102T090000
END:STANDARD
END:VTIMEZONE
BEGIN:VEVENT
DTSTART;TZID=America/Los_Angeles:20240927T190000
DTEND;TZID=America/Los_Angeles:20240927T220000
DTSTAMP:20260420T064218
CREATED:20240925T052004Z
LAST-MODIFIED:20240925T053621Z
UID:10002522-1727463600-1727474400@thetrickster.net
SUMMARY:Magic Brews @ Laverne Brewing
DESCRIPTION:Come out to @lavernebrewing this Friday night (09/27/24)!!! \nMagicians from the world famous Magic Castle will be doing close-up magic\, pretty much till the bar closes!!!! \n[staff_member id=”801″ show_name=”1″ show_title=”0″ show_bio=”0″ show_photo=”1″ show_email=”0″ show_phone=”0″ show_address=”0″ show_website=”0″ show_department=”0″] \n[staff_member id=”332″ show_name=”1″ show_title=”0″ show_bio=”0″ show_photo=”1″ show_email=”0″ show_phone=”0″ show_address=”0″ show_website=”0″ show_department=”0″] \n#magicbrews #hometownmagic #magiccastlehollywood #lavernemagic #lavernebrewingco #closeupmagic #beerandmagic
URL:https://thetrickster.net/event/magic-brews-laverne-brewing/
LOCATION:La Verne Brewing Co\, 2125 Wright Ave c 15\, La Verne\, CA\, 91750\, United States
CATEGORIES:Beer & Magic,Byron,Chris,Public Events
END:VEVENT
END:VCALENDAR