BEGIN:VCALENDAR
VERSION:2.0
PRODID:-//DEUCES WILD ENTERTAINMENT - ECPv6.15.15//NONSGML v1.0//EN
CALSCALE:GREGORIAN
METHOD:PUBLISH
X-ORIGINAL-URL:https://thetrickster.net
X-WR-CALDESC:Events for DEUCES WILD ENTERTAINMENT
REFRESH-INTERVAL;VALUE=DURATION:PT1H
X-Robots-Tag:noindex
X-PUBLISHED-TTL:PT1H
BEGIN:VTIMEZONE
TZID:America/Los_Angeles
BEGIN:DAYLIGHT
TZOFFSETFROM:-0800
TZOFFSETTO:-0700
TZNAME:PDT
DTSTART:20230312T100000
END:DAYLIGHT
BEGIN:STANDARD
TZOFFSETFROM:-0700
TZOFFSETTO:-0800
TZNAME:PST
DTSTART:20231105T090000
END:STANDARD
BEGIN:DAYLIGHT
TZOFFSETFROM:-0800
TZOFFSETTO:-0700
TZNAME:PDT
DTSTART:20240310T100000
END:DAYLIGHT
BEGIN:STANDARD
TZOFFSETFROM:-0700
TZOFFSETTO:-0800
TZNAME:PST
DTSTART:20241103T090000
END:STANDARD
BEGIN:DAYLIGHT
TZOFFSETFROM:-0800
TZOFFSETTO:-0700
TZNAME:PDT
DTSTART:20250309T100000
END:DAYLIGHT
BEGIN:STANDARD
TZOFFSETFROM:-0700
TZOFFSETTO:-0800
TZNAME:PST
DTSTART:20251102T090000
END:STANDARD
END:VTIMEZONE
BEGIN:VEVENT
DTSTART;TZID=America/Los_Angeles:20240210T190000
DTEND;TZID=America/Los_Angeles:20240210T220000
DTSTAMP:20260420T184258
CREATED:20231027T100652Z
LAST-MODIFIED:20240113T074935Z
UID:10001406-1707591600-1707602400@thetrickster.net
SUMMARY:Beer & Magic @ Absoltuion Brewing
DESCRIPTION:  \n  \n  \n  \n  \nIt’s back\, @BeerAndMagic @AbsolutionBrewing \nSat from 7-10pm \nFeaturing the follwing:\n@CardJestures\n@\n@ \n \n  \n  \n  \n  \n  \n  \nWe will also be having a few surprise guest swinging in thru-out the evening (schedule permitting). \n#magic #beer #beerandmagic #makethebeerdisappear #absolutionbrewing #brewery #beers #beerstagram #drinking #barmagic
URL:https://thetrickster.net/event/beer-magic-absoltuion-brewing/
LOCATION:Absolution Brewing Company\, 2878 Columbia St\, Torrance\, CA\, 90503\, United States
CATEGORIES:Beer & Magic,Public Events,Trickster
END:VEVENT
BEGIN:VEVENT
DTSTART;TZID=America/Los_Angeles:20240216T110000
DTEND;TZID=America/Los_Angeles:20240216T140000
DTSTAMP:20260420T184258
CREATED:20240212T034851Z
LAST-MODIFIED:20240214T051008Z
UID:10001466-1708081200-1708092000@thetrickster.net
SUMMARY:Magic Brews @ La Verne Brewing Co
DESCRIPTION:  \n \n  \n  \n  \n  \n  \n  \n  \n  \n  \nWe have another awesome Magic Brews event planned for you all! \nJoin us on Friday for a night of fun and magic. We will have magicians coming through to show you their favorite mind blowing magic tricks 🪄 \nMagic starts at 7pm. Mark your calendars 📆 \nChris Ruiz | Lauro Castillo |Masato Kurushima | Jeremiah De Matteis \n#LaVerneBrewingCo #LaVerne #Craftbeer #Craftbeerlovers #Beer #Beerstagram #BeerLover #BeerNerdsUnites #DrinkLocal #SupportLocal #Socal #Brewery #Beertography #BeerMe
URL:https://thetrickster.net/event/magic-brews-la-verne-brewing-co-3/
LOCATION:La Verne Brewing Co\, 2125 Wright Ave c 15\, La Verne\, CA\, 91750\, United States
CATEGORIES:Beer & Magic,Chris,Lauro,Public Events
END:VEVENT
BEGIN:VEVENT
DTSTART;TZID=America/Los_Angeles:20240217T180000
DTEND;TZID=America/Los_Angeles:20240217T200000
DTSTAMP:20260420T184258
CREATED:20240212T033632Z
LAST-MODIFIED:20240212T034324Z
UID:10001465-1708192800-1708200000@thetrickster.net
SUMMARY:Magic of Love @ Beachwood Blendery
DESCRIPTION:Magic of Love | A Valentine’s Magic Show Event at Beachwood Blendery Long Beach \nJoin us Saturday\, February 17th\, for an enchanting evening of magic and love at Beachwood Blendery in Downtown Long Beach\, CA\, USA. Celebrate Valentine’s Day weekend with a mesmerizing two-hour magic show starting at 6pm with magicians from the LA Magic Castle! Immerse yourself in a world of wonder as our talented magicians perform mind-boggling tricks and illusions. \nBut the enchantment doesn’t end there. Elevate your experience as Beachwood serves an exclusive Date Night Delights: Tasty Twosome Special. Kick off the captivating evening with two drinks accompanied by a delectable pairing of whipped ricotta and charcuterie. \nThe specialty menu is created by Beachwood’s head Chef at their Pizzeria location in Huntington Beach where they are known for their artful hand-tossed sourdough pizzas. \nIndulge in our Couples’ Special this Valentine’s\, but love knows no bounds—friends\, groups\, and more are all welcome to join the celebration of connection and camaraderie!
URL:https://thetrickster.net/event/magic-of-love-beachwood-blendery/
LOCATION:CA
CATEGORIES:Beer & Magic,Byron,Public Events,Trickster
END:VEVENT
BEGIN:VEVENT
DTSTART;TZID=America/Los_Angeles:20240218T050000
DTEND;TZID=America/Los_Angeles:20240218T100000
DTSTAMP:20260420T184258
CREATED:20240214T051504Z
LAST-MODIFIED:20240214T051559Z
UID:10001467-1708232400-1708250400@thetrickster.net
SUMMARY:Broken Hearts Circus @ Angel City Brewery
DESCRIPTION:  \n  \n  \n  \n  \nCOME ONE\, COME ALL!! \nWho says Valentine’s Day is just for lovers? That’s why every February we throw our Circus of Broken Hearts – a celebration of the single\, the third wheels\, and everything in between! \nCome runaway with our circus of aerialists\, stilt-walkers\, contortionists\, jugglers\, sword swallowers\, magicians\, and more as the Public House transforms into a big top tent for the day! Revel in the spectacles while sipping on our fine suds – we’ll even have specialty tours and flight + candy pairings! Doors open at 11am\, and the festivities begin at 1pm! Bring your crew\, all are welcome\, especially pups.
URL:https://thetrickster.net/event/beer-magic-angel-city-brewery-2/
LOCATION:Angel City Brewery\, 216 Alameda St.\, Los Angeles\, CA\, 90012\, United States
CATEGORIES:Beer & Magic,Byron,Jack,Public Events
END:VEVENT
BEGIN:VEVENT
DTSTART;TZID=America/Los_Angeles:20240224T190000
DTEND;TZID=America/Los_Angeles:20240224T220000
DTSTAMP:20260420T184258
CREATED:20231129T235138Z
LAST-MODIFIED:20231129T235138Z
UID:10001263-1708801200-1708812000@thetrickster.net
SUMMARY:Beer & Magic @ Mt Lowe Brewing
DESCRIPTION:Come on by for some @beerandmagic @mtlowebrewing this Sat night from 7pm-10pm with myself (@CardJestures)\, @byron333 & @trackjacketmagic\n.\n.\n.\n#magic #beer #beerandmagic #makethebeerdisappear #mtlowebrewing #brewery #beers #beerstagram #drinking #barmagic
URL:https://thetrickster.net/event/beer-magic-mt-lowe-brewing-3-2-2-2-2/2024-02-24/
LOCATION:Mt Lowe Brewing Company\, 150 E St Joseph St\, Arcadia\, CA\, 91006\, United States
CATEGORIES:Beer & Magic,Byron,Public Events,Trickster
END:VEVENT
END:VCALENDAR