BEGIN:VCALENDAR
VERSION:2.0
PRODID:-//DEUCES WILD ENTERTAINMENT - ECPv6.15.15//NONSGML v1.0//EN
CALSCALE:GREGORIAN
METHOD:PUBLISH
X-ORIGINAL-URL:https://thetrickster.net
X-WR-CALDESC:Events for DEUCES WILD ENTERTAINMENT
REFRESH-INTERVAL;VALUE=DURATION:PT1H
X-Robots-Tag:noindex
X-PUBLISHED-TTL:PT1H
BEGIN:VTIMEZONE
TZID:America/Los_Angeles
BEGIN:DAYLIGHT
TZOFFSETFROM:-0800
TZOFFSETTO:-0700
TZNAME:PDT
DTSTART:20220313T100000
END:DAYLIGHT
BEGIN:STANDARD
TZOFFSETFROM:-0700
TZOFFSETTO:-0800
TZNAME:PST
DTSTART:20221106T090000
END:STANDARD
BEGIN:DAYLIGHT
TZOFFSETFROM:-0800
TZOFFSETTO:-0700
TZNAME:PDT
DTSTART:20230312T100000
END:DAYLIGHT
BEGIN:STANDARD
TZOFFSETFROM:-0700
TZOFFSETTO:-0800
TZNAME:PST
DTSTART:20231105T090000
END:STANDARD
BEGIN:DAYLIGHT
TZOFFSETFROM:-0800
TZOFFSETTO:-0700
TZNAME:PDT
DTSTART:20240310T100000
END:DAYLIGHT
BEGIN:STANDARD
TZOFFSETFROM:-0700
TZOFFSETTO:-0800
TZNAME:PST
DTSTART:20241103T090000
END:STANDARD
END:VTIMEZONE
BEGIN:VEVENT
DTSTART;TZID=America/Los_Angeles:20231202T190000
DTEND;TZID=America/Los_Angeles:20231202T220000
DTSTAMP:20260420T215955
CREATED:20231031T122508Z
LAST-MODIFIED:20231129T234102Z
UID:10000707-1701543600-1701554400@thetrickster.net
SUMMARY:Beer & Magic @ Absoltuion Brewing
DESCRIPTION:  \n  \n  \n  \n  \nBACK by Popular Demand\, @BeerAndMagic @AbsolutionBrewing \nSat 12/02/23 from 7-10pm \nFeaturing the follwing:\n@CardJestures\n@AsianBlaineMagic\n@ \n \n  \n  \n  \n  \n  \n  \nWe will also be having a few surprise guest swinging in thru-out the evening (schedule permitting). \n#magic #beer #beerandmagic #makethebeerdisappear #absolutionbrewing #brewery #beers #beerstagram #drinking #barmagic
URL:https://thetrickster.net/event/beer-magic-absoltuion-brewing-2/
LOCATION:Absolution Brewing Company\, 2878 Columbia St\, Torrance\, CA\, 90503\, United States
CATEGORIES:Beer & Magic,Public Events,Trickster
END:VEVENT
BEGIN:VEVENT
DTSTART;TZID=America/Los_Angeles:20231216T180000
DTEND;TZID=America/Los_Angeles:20231216T200000
DTSTAMP:20260420T215955
CREATED:20231214T025913Z
LAST-MODIFIED:20231214T031247Z
UID:10001405-1702749600-1702756800@thetrickster.net
SUMMARY:Beer & Magic @ Beachwood Pizza & Beer
DESCRIPTION:Come out for the One Year Celebration of Beachwood Pizza & Beer!!!! \n@BeerAndMagic will be @BeachwoodPizzaAndBeer on Sat 12/16/23 from 6-8pm. \n@CardJestures\n@AsianBlaineMagic \n—\n\nWe’re turning One! 🥳🍕🍻 Join us in celebrating a year of culinary magic at Beachwood Pizza & Beer all weekend long – this Thursday\, December 14 through Sunday\, December 17. ⁠\nWe’re presenting a special anniversary food menu you won’t want to miss out on\, unique drinks\, music\, magic\, and more!⁠\nLet the beer flow\, the flavors dance\, and the celebration linger. We can’t wait to celebrate with you for a weekend of unforgettable festivities! 🎉⁠\n⁠\n#BeachwoodPizzaAndBeer #BreweryAnniversary #OneYearBrewed #BeerAndMagic
URL:https://thetrickster.net/event/beer-magic-beachwood-pizza-beer/
LOCATION:Beachwood Pizza & Beer\, 5205 Warner Ave\, Huntington Beach\, 92649\, United States
CATEGORIES:Beer & Magic,Public Events,Trickster
END:VEVENT
BEGIN:VEVENT
DTSTART;TZID=America/Los_Angeles:20231216T190000
DTEND;TZID=America/Los_Angeles:20231216T220000
DTSTAMP:20260420T215955
CREATED:20230914T133118Z
LAST-MODIFIED:20231214T031058Z
UID:10000626-1702753200-1702764000@thetrickster.net
SUMMARY:Beer & Magic @ Mt Lowe Brewing
DESCRIPTION:Come on by for some @beerandmagic @mtlowebrewing this Sat night from 7pm-10pm with myself (@CardJestures)\, @byron333 & @trackjacketmagic\n.\n.\n.\n#magic #beer #beerandmagic #makethebeerdisappear #mtlowebrewing #brewery #beers #beerstagram #drinking #barmagic
URL:https://thetrickster.net/event/beer-magic-mt-lowe-brewing-9/
LOCATION:Mt Lowe Brewing Company\, 150 E St Joseph St\, Arcadia\, CA\, 91006\, United States
CATEGORIES:Beer & Magic,Byron,Public Events
END:VEVENT
END:VCALENDAR