BEGIN:VCALENDAR
VERSION:2.0
PRODID:-//DEUCES WILD ENTERTAINMENT - ECPv6.15.15//NONSGML v1.0//EN
CALSCALE:GREGORIAN
METHOD:PUBLISH
X-WR-CALNAME:DEUCES WILD ENTERTAINMENT
X-ORIGINAL-URL:https://thetrickster.net
X-WR-CALDESC:Events for DEUCES WILD ENTERTAINMENT
REFRESH-INTERVAL;VALUE=DURATION:PT1H
X-Robots-Tag:noindex
X-PUBLISHED-TTL:PT1H
BEGIN:VTIMEZONE
TZID:America/Los_Angeles
BEGIN:DAYLIGHT
TZOFFSETFROM:-0800
TZOFFSETTO:-0700
TZNAME:PDT
DTSTART:20220313T100000
END:DAYLIGHT
BEGIN:STANDARD
TZOFFSETFROM:-0700
TZOFFSETTO:-0800
TZNAME:PST
DTSTART:20221106T090000
END:STANDARD
BEGIN:DAYLIGHT
TZOFFSETFROM:-0800
TZOFFSETTO:-0700
TZNAME:PDT
DTSTART:20230312T100000
END:DAYLIGHT
BEGIN:STANDARD
TZOFFSETFROM:-0700
TZOFFSETTO:-0800
TZNAME:PST
DTSTART:20231105T090000
END:STANDARD
BEGIN:DAYLIGHT
TZOFFSETFROM:-0800
TZOFFSETTO:-0700
TZNAME:PDT
DTSTART:20240310T100000
END:DAYLIGHT
BEGIN:STANDARD
TZOFFSETFROM:-0700
TZOFFSETTO:-0800
TZNAME:PST
DTSTART:20241103T090000
END:STANDARD
END:VTIMEZONE
BEGIN:VEVENT
DTSTART;TZID=America/Los_Angeles:20230217T110000
DTEND;TZID=America/Los_Angeles:20230217T140000
DTSTAMP:20260421T142339
CREATED:20230213T103444Z
LAST-MODIFIED:20230218T023245Z
UID:10000251-1676631600-1676642400@thetrickster.net
SUMMARY:Beer & Magic @ Brewheim
DESCRIPTION:Join us on Friday\, February 17th for our first Beer & Magic show featuring magicians from the Magic Castle in Hollywood! Enjoy free performances on stage\, as well as intimate performances as the magicians move from table to table throughout the night. \nThis is a FREE event but reservations are strongly suggested as we will sell out! Make sure to RSVP to secure your seat. Anyone without an RSVP will be accommodated on a first come\, first served basis in our standing room only areas. @sabrosomk will be our featured food truck that evening. \nTo RSVP\, head over to our link in bio!\n.\n.\n.\n.\n.\n#MagicShow #BeerAndMagic #Magicians #MagicShows #Brewery #CraftBeer #Beer #Anaheim #AnaheimCA #AnaheimBrewery #BrewheimBeers #BrewheimBrewery #OrangeCounty #MagicCastle
URL:https://thetrickster.net/event/beer-magic-brewheim/
LOCATION:Brewheim\, 1931 E. Wright Circle\, Anaheim\, CA\, 92806\, United States
CATEGORIES:Beer & Magic,Byron,Hubb,Lauro,Public Events,Trickster
END:VEVENT
BEGIN:VEVENT
DTSTART;TZID=America/Los_Angeles:20230218T110000
DTEND;TZID=America/Los_Angeles:20230218T140000
DTSTAMP:20260421T142339
CREATED:20230219T052356Z
LAST-MODIFIED:20230219T065901Z
UID:10000189-1676718000-1676728800@thetrickster.net
SUMMARY:Beer & Magic @ Mt Lowe Brewing
DESCRIPTION:Come on by for some @beerandmagic @mtlowebrewing this Sat night from 7pm-10pm with myself (@CardJestures)\, @byron333 & @trackjacketmagic\n.\n.\n.\n#magic #beer #beerandmagic #makethebeerdisappear #mtlowebrewing #brewery #beers #beerstagram #drinking #barmagic
URL:https://thetrickster.net/event/beer-magic-mt-lowe-brewing-5/
LOCATION:Mt Lowe Brewing Company\, 150 E St Joseph St\, Arcadia\, CA\, 91006\, United States
CATEGORIES:Beer & Magic,Byron,Public Events,Trickster
END:VEVENT
BEGIN:VEVENT
DTSTART;TZID=America/Los_Angeles:20230219T110000
DTEND;TZID=America/Los_Angeles:20230219T140000
DTSTAMP:20260421T142339
CREATED:20230130T021002Z
LAST-MODIFIED:20230130T022643Z
UID:10000249-1676804400-1676815200@thetrickster.net
SUMMARY:Beer & Magic @ Angel City Brewery
DESCRIPTION:COME ONE\, COME ALL!! \nWho says Valentine’s Day is just for lovers? That’s why every February we throw our Circus of Broken Hearts – a celebration of the single\, the third wheels\, and everything in between! \nCome runaway with our circus of aerialists\, stilt-walkers\, contortionists\, jugglers\, sword swallowers\, tarot card readers\, and more as the Public House transforms into a big top tent for the day! Revel in the spectacles while sipping on our fine suds – we’ll even have specialty slushies & flight + candy pairings\, with vegan candy options for those with specific dietary needs! Doors open at noon\, and the festivities begin at 1! Bring your crew\, all are welcome\, especially pups.
URL:https://thetrickster.net/event/beer-magic-angel-city-brewery/
LOCATION:Angel City Brewery\, 216 Alameda St.\, Los Angeles\, CA\, 90012\, United States
CATEGORIES:Beer & Magic,Byron,Hubb,Lauro,Public Events,Trickster
END:VEVENT
END:VCALENDAR