BEGIN:VCALENDAR
VERSION:2.0
PRODID:-//DEUCES WILD ENTERTAINMENT - ECPv6.15.15//NONSGML v1.0//EN
CALSCALE:GREGORIAN
METHOD:PUBLISH
X-ORIGINAL-URL:https://thetrickster.net
X-WR-CALDESC:Events for DEUCES WILD ENTERTAINMENT
REFRESH-INTERVAL;VALUE=DURATION:PT1H
X-Robots-Tag:noindex
X-PUBLISHED-TTL:PT1H
BEGIN:VTIMEZONE
TZID:America/Los_Angeles
BEGIN:DAYLIGHT
TZOFFSETFROM:-0800
TZOFFSETTO:-0700
TZNAME:PDT
DTSTART:20210314T100000
END:DAYLIGHT
BEGIN:STANDARD
TZOFFSETFROM:-0700
TZOFFSETTO:-0800
TZNAME:PST
DTSTART:20211107T090000
END:STANDARD
BEGIN:DAYLIGHT
TZOFFSETFROM:-0800
TZOFFSETTO:-0700
TZNAME:PDT
DTSTART:20220313T100000
END:DAYLIGHT
BEGIN:STANDARD
TZOFFSETFROM:-0700
TZOFFSETTO:-0800
TZNAME:PST
DTSTART:20221106T090000
END:STANDARD
BEGIN:DAYLIGHT
TZOFFSETFROM:-0800
TZOFFSETTO:-0700
TZNAME:PDT
DTSTART:20230312T100000
END:DAYLIGHT
BEGIN:STANDARD
TZOFFSETFROM:-0700
TZOFFSETTO:-0800
TZNAME:PST
DTSTART:20231105T090000
END:STANDARD
END:VTIMEZONE
BEGIN:VEVENT
DTSTART;TZID=America/Los_Angeles:20221231T120000
DTEND;TZID=America/Los_Angeles:20221231T163000
DTSTAMP:20260422T145827
CREATED:20221130T083612Z
LAST-MODIFIED:20221207T083335Z
UID:10000003-1672488000-1672504200@thetrickster.net
SUMMARY:dSb @ Lake Forest Sun & Sail Women’s Club (NYE)
DESCRIPTION:Once again dSb is happy to announce our return to Lake Forest Sun & Sail Women’s Club to celebrate New Year’s Eve. \nTickets are $45 each and can be purchased at the Sun & Sail Women’s Club front desk. \n8:00 pm – 12:30 am\nDressy or casual\nCatered Affair with heavy appetizers and desserts with a champaign toast at Midnight.\nTables reserved for groups of 10\nCash bar available \nOr checks can be mailed with the following information: Total number of tickets and ticket holder names to: \nSun & Sail Women’s Club\n24752 Toledo Way\nLake Forest\, CA. 92630\nAttention:  JoAnne Gillespie
URL:https://thetrickster.net/event/dsb-lake-forest-sun-sail-womens-club-nye/
LOCATION:Sun & Sail Women’s Club\, 24752 Toledo Way\, Lake Forest\, CA\, 92630\, United States
CATEGORIES:dSb,Live Music,Public Events
END:VEVENT
END:VCALENDAR