BEGIN:VCALENDAR
VERSION:2.0
PRODID:-//DEUCES WILD ENTERTAINMENT - ECPv6.15.15//NONSGML v1.0//EN
CALSCALE:GREGORIAN
METHOD:PUBLISH
X-ORIGINAL-URL:https://thetrickster.net
X-WR-CALDESC:Events for DEUCES WILD ENTERTAINMENT
REFRESH-INTERVAL;VALUE=DURATION:PT1H
X-Robots-Tag:noindex
X-PUBLISHED-TTL:PT1H
BEGIN:VTIMEZONE
TZID:America/Los_Angeles
BEGIN:DAYLIGHT
TZOFFSETFROM:-0800
TZOFFSETTO:-0700
TZNAME:PDT
DTSTART:20220313T100000
END:DAYLIGHT
BEGIN:STANDARD
TZOFFSETFROM:-0700
TZOFFSETTO:-0800
TZNAME:PST
DTSTART:20221106T090000
END:STANDARD
BEGIN:DAYLIGHT
TZOFFSETFROM:-0800
TZOFFSETTO:-0700
TZNAME:PDT
DTSTART:20230312T100000
END:DAYLIGHT
BEGIN:STANDARD
TZOFFSETFROM:-0700
TZOFFSETTO:-0800
TZNAME:PST
DTSTART:20231105T090000
END:STANDARD
BEGIN:DAYLIGHT
TZOFFSETFROM:-0800
TZOFFSETTO:-0700
TZNAME:PDT
DTSTART:20240310T100000
END:DAYLIGHT
BEGIN:STANDARD
TZOFFSETFROM:-0700
TZOFFSETTO:-0800
TZNAME:PST
DTSTART:20241103T090000
END:STANDARD
END:VTIMEZONE
BEGIN:VEVENT
DTSTART;TZID=America/Los_Angeles:20230901T100000
DTEND;TZID=America/Los_Angeles:20230901T140000
DTSTAMP:20260421T182928
CREATED:20230831T132447Z
LAST-MODIFIED:20230831T132447Z
UID:10000679-1693562400-1693576800@thetrickster.net
SUMMARY:Nathan James @ Swing Inn
DESCRIPTION:
URL:https://thetrickster.net/event/nathan-james-swing-inn/
LOCATION:Swing Inn\, 28676 Old Town Front St\, Temecula\, CA\, 92590\, United States
CATEGORIES:Live Music,Nathan,Public Events
END:VEVENT
BEGIN:VEVENT
DTSTART;TZID=America/Los_Angeles:20230902T110000
DTEND;TZID=America/Los_Angeles:20230902T140000
DTSTAMP:20260421T182928
CREATED:20230831T132735Z
LAST-MODIFIED:20230831T132735Z
UID:10000680-1693652400-1693663200@thetrickster.net
SUMMARY:Nathan James @ La Cucina Tratoria
DESCRIPTION:
URL:https://thetrickster.net/event/nathan-james-la-cucina-tratoria/
LOCATION:La Cucina Tratoria\, 1415 S Mission Rd\, Fallbrook\, CA\, 92028\, United States
CATEGORIES:Live Music,Nathan,Public Events
END:VEVENT
BEGIN:VEVENT
DTSTART;TZID=America/Los_Angeles:20230906T093000
DTEND;TZID=America/Los_Angeles:20230906T123000
DTSTAMP:20260421T182928
CREATED:20230831T133006Z
LAST-MODIFIED:20230831T133006Z
UID:10000681-1693992600-1694003400@thetrickster.net
SUMMARY:Nathan James @ Peltzer Winery
DESCRIPTION:
URL:https://thetrickster.net/event/nathan-james-peltzer-winery/
LOCATION:Peltzer Winery\, 40275 Calle Contento\, Temecula\, CA\, 92591\, United States
CATEGORIES:Live Music,Nathan,Public Events
END:VEVENT
END:VCALENDAR